BEGIN:VCALENDAR
VERSION:2.0
CALSCALE:GREGORIAN
PRODID:adamgibbons/ics
METHOD:PUBLISH
X-PUBLISHED-TTL:PT1H
BEGIN:VEVENT
UID:244@tucsontimeline.info
SUMMARY:Benson Highway Band
DTSTAMP:20260423T112005Z
DTSTART:20250420T020000Z
DTEND:20250420T050000Z
DESCRIPTION:The Benson Highway band will perform acoustic.
URL:https://tucsontimeline.info/event/benson-highway-band
LOCATION:Bashful Bandit - 3696 E. Speedway 85716
STATUS:CONFIRMED
CATEGORIES:
X-ALT-DESC;FMTTYPE=text/html:<p>The Benson Highway band will perform acoust
	ic. </p>
END:VEVENT
END:VCALENDAR
